BEGIN:VCALENDAR
VERSION:2.0
PRODID:-//85.214.232.82//NONSGML kigkonsult.se iCalcreator 2.20//
CALSCALE:GREGORIAN
METHOD:PUBLISH
X-WR-TIMEZONE:UTC
BEGIN:VEVENT
UID:event704@Chorgemeinschaft Priesendorf e.V. - Kirchenchor und Wohnzimmer
 chor
DTSTAMP:20260421T223508Z
CATEGORIES:Konzert
DESCRIPTION:Jubiläumskonzert '10 Jahre Chorgemeinschaft Priesendorf'\nKateg
 orie: Konzert\nICS-Link: https://www.chorgemeinschaft-priesendorf.de/index
 .php?option=com_jem&view=event&id=704:jubilaeumskonzert-10-jahre-chorgemei
 nschaft-priesendorf\n
DTSTART:20260621T170000Z
DTEND:20260621T181500Z
LOCATION:Pfarrkirche St. Bartholomäus\, Priesendorf\,Hauptstraße 40\,96170 
 Priesendorf
SUMMARY:Jubiläumskonzert '10 Jahre Chorgemeinschaft Priesendorf'
URL:https://www.chorgemeinschaft-priesendorf.de/index.php?option=com_jem&vi
 ew=event&id=704:jubilaeumskonzert-10-jahre-chorgemeinschaft-priesendorf
END:VEVENT
END:VCALENDAR